BEGIN:VCALENDAR
VERSION:2.0
PRODID:-//Taking Ground - ECPv5.8.1//NONSGML v1.0//EN
CALSCALE:GREGORIAN
METHOD:PUBLISH
X-WR-CALNAME:Taking Ground
X-ORIGINAL-URL:https://www.takingground.org.uk
X-WR-CALDESC:Events for Taking Ground
BEGIN:VTIMEZONE
TZID:Europe/London
BEGIN:DAYLIGHT
TZOFFSETFROM:+0000
TZOFFSETTO:+0100
TZNAME:BST
DTSTART:20170326T010000
END:DAYLIGHT
BEGIN:STANDARD
TZOFFSETFROM:+0100
TZOFFSETTO:+0000
TZNAME:GMT
DTSTART:20171029T010000
END:STANDARD
END:VTIMEZONE
BEGIN:VEVENT
DTSTART;TZID=Europe/London:20170506T103000
DTEND;TZID=Europe/London:20170506T120000
DTSTAMP:20260422T123017
CREATED:20180307T090012Z
LAST-MODIFIED:20190819T144049Z
UID:24075-1494066600-1494072000@www.takingground.org.uk
SUMMARY:Taking Ground Celebration
DESCRIPTION:Taking Ground Celebrations are a chance for all the churches in our sphere of Salt & Light to attend one big service together as a family. This time the celebration is part of our Taking Ground Family Weekend (details being finalised). You do not need a Weekend ticket to attend the celebration service alone\, however if you would like to partake in the hog roast lunch afterwards\, then you will need to buy a ticket that includes the hog roast option. \nThis will take place at TVC Church\, where tea and coffee will be served from 10am. The celebration will start at 10.30am and there will be a hog roast lunch afterwards (for those with tickets). \nThere will be children’s and youth groups during the service\, leaving the main service after approximately half an hour.
URL:https://www.takingground.org.uk/event/celebration-3/
LOCATION:The Oakwood Centre\, Cleasby Way\, Durham Lane Industrial Park\, Stockton-on-Tees\, TS16 0RD\, United Kingdom
CATEGORIES:Sphere Celebration
ATTACH;FMTTYPE=image/gif:https://www.takingground.org.uk/wp-content/uploads/2017/02/tg-celebration-event-slider.gif
ORGANIZER;CN="Taking%20Ground":MAILTO:contact@takingground.org.uk
END:VEVENT
END:VCALENDAR